BEGIN:VCALENDAR
VERSION:2.0
PRODID:-//Never Monday - ECPv6.15.20//NONSGML v1.0//EN
CALSCALE:GREGORIAN
METHOD:PUBLISH
X-ORIGINAL-URL:https://nevermondaymgmt.com
X-WR-CALDESC:Events for Never Monday
REFRESH-INTERVAL;VALUE=DURATION:PT1H
X-Robots-Tag:noindex
X-PUBLISHED-TTL:PT1H
BEGIN:VTIMEZONE
TZID:America/New_York
BEGIN:DAYLIGHT
TZOFFSETFROM:-0500
TZOFFSETTO:-0400
TZNAME:EDT
DTSTART:20250309T070000
END:DAYLIGHT
BEGIN:STANDARD
TZOFFSETFROM:-0400
TZOFFSETTO:-0500
TZNAME:EST
DTSTART:20251102T060000
END:STANDARD
BEGIN:DAYLIGHT
TZOFFSETFROM:-0500
TZOFFSETTO:-0400
TZNAME:EDT
DTSTART:20260308T070000
END:DAYLIGHT
BEGIN:STANDARD
TZOFFSETFROM:-0400
TZOFFSETTO:-0500
TZNAME:EST
DTSTART:20261101T060000
END:STANDARD
BEGIN:DAYLIGHT
TZOFFSETFROM:-0500
TZOFFSETTO:-0400
TZNAME:EDT
DTSTART:20270314T070000
END:DAYLIGHT
BEGIN:STANDARD
TZOFFSETFROM:-0400
TZOFFSETTO:-0500
TZNAME:EST
DTSTART:20271107T060000
END:STANDARD
END:VTIMEZONE
BEGIN:VEVENT
DTSTART;TZID=America/New_York:20260221T160000
DTEND;TZID=America/New_York:20260221T200000
DTSTAMP:20260422T183251
CREATED:20260110T202038Z
LAST-MODIFIED:20260211T210336Z
UID:10000008-1771689600-1771704000@nevermondaymgmt.com
SUMMARY:The Grind: Session 1
DESCRIPTION:The Grind 2026 season launches this February 21st at @flowerskateshop with Session 1. The first of four stops across New York. 🛹 \nFree to compete. Free to attend. \nSkaters from across CNY compete in three trick categories for swag and cash prizes. Gear giveaways from @woolskateboards and grub from @nickstomatopie. \nPerformances from never Monday artists @rayner.wav and @1drflmusic with special guests @spookyboi_jb and @skylabeef presented by our friends at @offshorethc. \nHit the link in our bio for all the details. \nThe Grind Tour is coming to a skate shop near you! Four stops across NY packed with skating\, music\, and giveaways. This September we celebrate 2026 with the The Grind: Full Send Finale Skate Competition and Full Send Music Festival. \nFind out more 👇 \nThe Grind
URL:https://nevermondaymgmt.com/event/the-grind-session-1/
LOCATION:Flower Skate Shop\, 121 Walton St\,\, Syracuse\, NY\, NJ\, 13202\, United States
ATTACH;FMTTYPE=image/jpeg:https://nevermondaymgmt.com/wp-content/uploads/2026/01/tg_ep1_1920.jpg
ORGANIZER;CN="Never Monday":MAILTO:info@nevermondaymgmt.com
END:VEVENT
END:VCALENDAR