BEGIN:VCALENDAR
VERSION:2.0
PRODID:-//Never Monday - ECPv6.15.20//NONSGML v1.0//EN
CALSCALE:GREGORIAN
METHOD:PUBLISH
X-WR-CALNAME:Never Monday
X-ORIGINAL-URL:https://nevermondaymgmt.com
X-WR-CALDESC:Events for Never Monday
REFRESH-INTERVAL;VALUE=DURATION:PT1H
X-Robots-Tag:noindex
X-PUBLISHED-TTL:PT1H
BEGIN:VTIMEZONE
TZID:America/New_York
BEGIN:DAYLIGHT
TZOFFSETFROM:-0500
TZOFFSETTO:-0400
TZNAME:EDT
DTSTART:20240310T070000
END:DAYLIGHT
BEGIN:STANDARD
TZOFFSETFROM:-0400
TZOFFSETTO:-0500
TZNAME:EST
DTSTART:20241103T060000
END:STANDARD
BEGIN:DAYLIGHT
TZOFFSETFROM:-0500
TZOFFSETTO:-0400
TZNAME:EDT
DTSTART:20250309T070000
END:DAYLIGHT
BEGIN:STANDARD
TZOFFSETFROM:-0400
TZOFFSETTO:-0500
TZNAME:EST
DTSTART:20251102T060000
END:STANDARD
BEGIN:DAYLIGHT
TZOFFSETFROM:-0500
TZOFFSETTO:-0400
TZNAME:EDT
DTSTART:20260308T070000
END:DAYLIGHT
BEGIN:STANDARD
TZOFFSETFROM:-0400
TZOFFSETTO:-0500
TZNAME:EST
DTSTART:20261101T060000
END:STANDARD
END:VTIMEZONE
BEGIN:VEVENT
DTSTART;TZID=America/New_York:20250919T080000
DTEND;TZID=America/New_York:20250921T170000
DTSTAMP:20260421T012813
CREATED:20250813T204538Z
LAST-MODIFIED:20250815T073827Z
UID:10000003-1758268800-1758474000@nevermondaymgmt.com
SUMMARY:Camp Never Monday
DESCRIPTION:Welcome to Camp Never Monday.
URL:https://nevermondaymgmt.com/event/camp-never-monday/
CATEGORIES:EDM
ATTACH;FMTTYPE=image/jpeg:https://nevermondaymgmt.com/wp-content/uploads/2025/08/nmlogoevent.jpg
ORGANIZER;CN="Never Monday":MAILTO:info@nevermondaymgmt.com
END:VEVENT
END:VCALENDAR